BEGIN:VCALENDAR
VERSION:2.0
METHOD:PUBLISH
PRODID:-//PinCalendar.com -  Calendar  //EN
BEGIN:VEVENT
UID:3663
DTSTART:20170321T170000Z
DTEND:20170321T170000Z
DTSTAMP:20260423T183115
RRULE:FREQ=WEEKLY;BYDAY=TU
SUMMARY:All Levels Flow
URL:https://www.pincalendar.com/avarayoga/calendar/calendar-478/event/3663
 /?q=ical
END:VEVENT
END:VCALENDAR
