BEGIN:VCALENDAR
VERSION:2.0
METHOD:PUBLISH
PRODID:-//PinCalendar.com -  Calendar  //EN
BEGIN:VEVENT
UID:3227
DTSTART:20161220T180000Z
DTEND:20161220T180000Z
ATTACH;FMTTYPE:image / jpeg:https://s3.amazonaws.com/images.pincalendar.co
 m/users/funcook/event/new-event_20161219204435.jpg
DESCRIPTION:Pour acheter votre certificat -cadeau\, communiquez avec nous 
 sur notre page Facebook &quot\;&Agrave\; vos marmites&quot\;!!\n
DTSTAMP:20260421T194653
SUMMARY:New Event
URL:https://www.pincalendar.com/funcook/calendar/calendar-433/event/3227/?
 q=ical
END:VEVENT
END:VCALENDAR
