BEGIN:VCALENDAR
VERSION:2.0
METHOD:PUBLISH
PRODID:-//PinCalendar.com -  Calendar  //EN
BEGIN:VEVENT
UID:224
DTSTART:20150928T170000Z
DTEND:20150928T170000Z
DTSTAMP:20260421T093654
SUMMARY:ZLOBIRELLA
URL:https://www.pincalendar.com/jumaisa/calendar/calendar-61/event/224/?q=
 ical
END:VEVENT
END:VCALENDAR
