BEGIN:VCALENDAR
VERSION:2.0
METHOD:PUBLISH
PRODID:-//PinCalendar.com -  Accounting  //EN
BEGIN:VEVENT
UID:1088
DTSTART:20160523T170000Z
DTEND:20160523T170000Z
ATTACH;FMTTYPE:image / jpeg:https://s3.amazonaws.com/images.pincalendar.co
 m/users/ldrake/calendar/accounting/event/in-put-payroll_2016_05_14_08_21_0
 1_708855.jpg
DESCRIPTION:Input Time Sheets\n
DTSTAMP:20260424T133849
RRULE:FREQ=WEEKLY;INTERVAL=2;BYDAY=MO
SUMMARY:In put Payroll
URL:https://www.pincalendar.com/ldrake/calendar/accounting/event/1088/?q=i
 cal
END:VEVENT
END:VCALENDAR
