BEGIN:VCALENDAR
VERSION:2.0
METHOD:PUBLISH
PRODID:-//PinCalendar.com -  Accounting  //EN
BEGIN:VEVENT
UID:1090
DTSTART:20160527T170000Z
DTEND:20160527T170000Z
ATTACH;FMTTYPE:image / jpeg:https://s3.amazonaws.com/images.pincalendar.co
 m/users/ldrake/calendar/accounting/event/payday_2016_05_14_08_31_47_607241
 .jpg
DTSTAMP:20260424T133506
RRULE:FREQ=WEEKLY;INTERVAL=2;BYDAY=FR
SUMMARY:PayDay
URL:https://www.pincalendar.com/ldrake/calendar/accounting/event/1090/?q=i
 cal
END:VEVENT
END:VCALENDAR
